BEGIN:VCALENDAR
VERSION:2.0
PRODID:-//Reutlinger Geschichtsverein - ECPv6.15.17.1//NONSGML v1.0//EN
CALSCALE:GREGORIAN
METHOD:PUBLISH
X-WR-CALNAME:Reutlinger Geschichtsverein
X-ORIGINAL-URL:https://www.reutlinger-geschichtsverein.de
X-WR-CALDESC:Veranstaltungen für Reutlinger Geschichtsverein
REFRESH-INTERVAL;VALUE=DURATION:PT1H
X-Robots-Tag:noindex
X-PUBLISHED-TTL:PT1H
BEGIN:VTIMEZONE
TZID:Europe/Berlin
BEGIN:DAYLIGHT
TZOFFSETFROM:+0100
TZOFFSETTO:+0200
TZNAME:CEST
DTSTART:20240331T010000
END:DAYLIGHT
BEGIN:STANDARD
TZOFFSETFROM:+0200
TZOFFSETTO:+0100
TZNAME:CET
DTSTART:20241027T010000
END:STANDARD
BEGIN:DAYLIGHT
TZOFFSETFROM:+0100
TZOFFSETTO:+0200
TZNAME:CEST
DTSTART:20250330T010000
END:DAYLIGHT
BEGIN:STANDARD
TZOFFSETFROM:+0200
TZOFFSETTO:+0100
TZNAME:CET
DTSTART:20251026T010000
END:STANDARD
BEGIN:DAYLIGHT
TZOFFSETFROM:+0100
TZOFFSETTO:+0200
TZNAME:CEST
DTSTART:20260329T010000
END:DAYLIGHT
BEGIN:STANDARD
TZOFFSETFROM:+0200
TZOFFSETTO:+0100
TZNAME:CET
DTSTART:20261025T010000
END:STANDARD
END:VTIMEZONE
BEGIN:VEVENT
DTSTART;TZID=Europe/Berlin:20250920T074500
DTEND;TZID=Europe/Berlin:20250920T190000
DTSTAMP:20260423T151528
CREATED:20250607T154840Z
LAST-MODIFIED:20250607T154840Z
UID:2628-1758354300-1758394800@www.reutlinger-geschichtsverein.de
SUMMARY:Caesar und Kleopatra
DESCRIPTION:Leitung: Eberhard Zacher\nAbfahrt: 7:45 Uhr Alter Busbahnhof (Rückkehr ca. 19:00 Uhr)\nPreis: 99\,00 Euro\nAnmeldeschluss bei der vhs Reutlingen: 25.8.2025 \nKein Liebespaar der Antike ist so berühmt wie Caesar und Kleopatra. Doch was ist dabei Mythos und was Realität? War es die wahre Liebe oder politisches Kalkül\, das die beiden zusammenbrachte? War Kleopatra die raffinierte Verführerin\, die gestandene Männer wie Caesar und Marcus Antonius ins Verderben stürzte? Die Ausstellung des Historischen Museums der Pfalz in Speyer gibt Antwort auf diese und andere Fragen und führt in eine Zeit des Umbruchs\, die geprägt war vom Untergang einer alten und dem Aufstieg einer neuen Weltordnung. \nBild: Ausstellungsplakat des Historischen Museums der Pfalz Speyer. Grafik: eichfelder artworks
URL:https://www.reutlinger-geschichtsverein.de/veranstaltung/caesar-und-kleopatra/
LOCATION:Reutlingen\, alter Busbahnhof\, Busbahnhof Kaiserstr.\, Reutlingen\, Baden-Württemberg\, 72764\, Deutschland
CATEGORIES:Führungen und Reisen
ATTACH;FMTTYPE=image/jpeg:https://www.reutlinger-geschichtsverein.de/wp-content/uploads/2025/06/Plakatmotiv_v1-scaled.jpg
END:VEVENT
END:VCALENDAR