BEGIN:VCALENDAR
VERSION:2.0
PRODID:-//Reutlinger Geschichtsverein - ECPv6.15.17.1//NONSGML v1.0//EN
CALSCALE:GREGORIAN
METHOD:PUBLISH
X-WR-CALNAME:Reutlinger Geschichtsverein
X-ORIGINAL-URL:https://www.reutlinger-geschichtsverein.de
X-WR-CALDESC:Veranstaltungen für Reutlinger Geschichtsverein
REFRESH-INTERVAL;VALUE=DURATION:PT1H
X-Robots-Tag:noindex
X-PUBLISHED-TTL:PT1H
BEGIN:VTIMEZONE
TZID:Europe/Berlin
BEGIN:DAYLIGHT
TZOFFSETFROM:+0100
TZOFFSETTO:+0200
TZNAME:CEST
DTSTART:20250330T010000
END:DAYLIGHT
BEGIN:STANDARD
TZOFFSETFROM:+0200
TZOFFSETTO:+0100
TZNAME:CET
DTSTART:20251026T010000
END:STANDARD
BEGIN:DAYLIGHT
TZOFFSETFROM:+0100
TZOFFSETTO:+0200
TZNAME:CEST
DTSTART:20260329T010000
END:DAYLIGHT
BEGIN:STANDARD
TZOFFSETFROM:+0200
TZOFFSETTO:+0100
TZNAME:CET
DTSTART:20261025T010000
END:STANDARD
BEGIN:DAYLIGHT
TZOFFSETFROM:+0100
TZOFFSETTO:+0200
TZNAME:CEST
DTSTART:20270328T010000
END:DAYLIGHT
BEGIN:STANDARD
TZOFFSETFROM:+0200
TZOFFSETTO:+0100
TZNAME:CET
DTSTART:20271031T010000
END:STANDARD
END:VTIMEZONE
BEGIN:VEVENT
DTSTART;TZID=Europe/Berlin:20260211T180000
DTEND;TZID=Europe/Berlin:20260211T200000
DTSTAMP:20260421T145304
CREATED:20251210T213502Z
LAST-MODIFIED:20251210T213841Z
UID:2760-1770832800-1770840000@www.reutlinger-geschichtsverein.de
SUMMARY:Filmvorführung: Friedrich List: Der unendliche Weg (1943)
DESCRIPTION:Reihe Landesgeschichte im Film \nim Februar 2026 jeweils mittwochs 18:00 Uhr im Programmkino Kamino\, Ziegelweg 3 \n11. Februar 2026 – Friedrich List: Der unendliche Weg (1943)\nRegie: Hans Schweikart\, Drehbuch: Walter von Molo\,  Ernst v. Salomon\nEinführung: Prof. Dr. Larissa Zierow\, Friedrich-List-Institut Reutlingen und Dr. Roland Deigendesch\, Stadtarchiv Reutlingen
URL:https://www.reutlinger-geschichtsverein.de/veranstaltung/friedrich-list-der-unendliche-weg-1943/
LOCATION:Programmkino Kamino\, Ziegelweg 3\, Reutlingen\, Baden-Württemberg\, 72764\, Germany
CATEGORIES:Filmvorführung
END:VEVENT
END:VCALENDAR