BEGIN:VCALENDAR
VERSION:2.0
PRODID:-//Reutlinger Geschichtsverein - ECPv6.15.17.1//NONSGML v1.0//EN
CALSCALE:GREGORIAN
METHOD:PUBLISH
X-ORIGINAL-URL:https://www.reutlinger-geschichtsverein.de
X-WR-CALDESC:Veranstaltungen für Reutlinger Geschichtsverein
REFRESH-INTERVAL;VALUE=DURATION:PT1H
X-Robots-Tag:noindex
X-PUBLISHED-TTL:PT1H
BEGIN:VTIMEZONE
TZID:Europe/Berlin
BEGIN:DAYLIGHT
TZOFFSETFROM:+0100
TZOFFSETTO:+0200
TZNAME:CEST
DTSTART:20250330T010000
END:DAYLIGHT
BEGIN:STANDARD
TZOFFSETFROM:+0200
TZOFFSETTO:+0100
TZNAME:CET
DTSTART:20251026T010000
END:STANDARD
BEGIN:DAYLIGHT
TZOFFSETFROM:+0100
TZOFFSETTO:+0200
TZNAME:CEST
DTSTART:20260329T010000
END:DAYLIGHT
BEGIN:STANDARD
TZOFFSETFROM:+0200
TZOFFSETTO:+0100
TZNAME:CET
DTSTART:20261025T010000
END:STANDARD
BEGIN:DAYLIGHT
TZOFFSETFROM:+0100
TZOFFSETTO:+0200
TZNAME:CEST
DTSTART:20270328T010000
END:DAYLIGHT
BEGIN:STANDARD
TZOFFSETFROM:+0200
TZOFFSETTO:+0100
TZNAME:CET
DTSTART:20271031T010000
END:STANDARD
END:VTIMEZONE
BEGIN:VEVENT
DTSTART;TZID=Europe/Berlin:20260304T190000
DTEND;TZID=Europe/Berlin:20260304T200000
DTSTAMP:20260421T135451
CREATED:20251210T211256Z
LAST-MODIFIED:20260216T181119Z
UID:2742-1772650800-1772654400@www.reutlinger-geschichtsverein.de
SUMMARY:Schiedweckenabend in der Stadthalle
DESCRIPTION:Tilmann Marstaller M. A.\, Rottenburg am Neckar\nVortrag zum Schiedweckenabend \nIn diesem Jahr wird der 300. Jahrestag des Stadtbrands vom September 1726 Thema des Schiedweckenvortrags am Mittwoch\, 4. März sein. Der beim Geschichtsverein schon bestens bekannte Bauforscher und Archäologie Tilmann Marstaller wird aus einem aktuellen Projekt berichten\, bei dem es vor allem um den Wiederaufbau der zerstörten Stadt gehen wird. – „‘Gedächtnisfeyer‘ – Das Wunder des Wiederaufbaus der vor 300 Jahren abgebrannten Reichsstadt Reutlingen“ lautet der Titel. \nDer Abend beginnt im Großen Saal der Stadthalle wie gewohnt um 19:00 Uhr mit einer Begrüßung durch den Vorsitzenden. Im Anschluss an das gemeinsame Pastetenessen gibt es dann den Vortrag. Auch diesmal sind Freunde und Bekannte herzlich willkommen. Zur Vorbestellung der Pasteten erbittet die Geschäftsstelle Ihre Zusage per E-Mail oder telefonisch (07121 303 2386) bis Dienstag\, 24. Februar. \nAn dem Abend wird zudem die jüngst erschienene und vom Kulturamt herausgegebene „Bettelmappe“ zum Stadtbrandjahrestag aufliegen. \nDie Veranstaltung wird freundlicherweise gefördert von der Stadt Reutlingen\, dem Kulturfonds der OEW\, der FairEnergie Reutlingen sowie der GWG. \n 
URL:https://www.reutlinger-geschichtsverein.de/veranstaltung/gedaechtnisfeyer-das-wunder-des-wiederaufbaus-der-vor-300-jahren-abgebrannten-reichsstadt-reutlingen/
LOCATION:Stadthalle Reutlingen\, Manfred-Oechsle-Platz 1\, Reutlingen\, Baden-Württemberg\, 72762\, Deutschland
CATEGORIES:Vortrag
ATTACH;FMTTYPE=image/jpeg:https://www.reutlinger-geschichtsverein.de/wp-content/uploads/2024/03/Schiedwecke-scaled-e1712146208541.jpg
END:VEVENT
END:VCALENDAR