BEGIN:VCALENDAR
VERSION:2.0
PRODID:-//Reutlinger Geschichtsverein - ECPv6.15.17.1//NONSGML v1.0//EN
CALSCALE:GREGORIAN
METHOD:PUBLISH
X-ORIGINAL-URL:https://www.reutlinger-geschichtsverein.de
X-WR-CALDESC:Veranstaltungen für Reutlinger Geschichtsverein
REFRESH-INTERVAL;VALUE=DURATION:PT1H
X-Robots-Tag:noindex
X-PUBLISHED-TTL:PT1H
BEGIN:VTIMEZONE
TZID:Europe/Berlin
BEGIN:DAYLIGHT
TZOFFSETFROM:+0100
TZOFFSETTO:+0200
TZNAME:CEST
DTSTART:20250330T010000
END:DAYLIGHT
BEGIN:STANDARD
TZOFFSETFROM:+0200
TZOFFSETTO:+0100
TZNAME:CET
DTSTART:20251026T010000
END:STANDARD
BEGIN:DAYLIGHT
TZOFFSETFROM:+0100
TZOFFSETTO:+0200
TZNAME:CEST
DTSTART:20260329T010000
END:DAYLIGHT
BEGIN:STANDARD
TZOFFSETFROM:+0200
TZOFFSETTO:+0100
TZNAME:CET
DTSTART:20261025T010000
END:STANDARD
BEGIN:DAYLIGHT
TZOFFSETFROM:+0100
TZOFFSETTO:+0200
TZNAME:CEST
DTSTART:20270328T010000
END:DAYLIGHT
BEGIN:STANDARD
TZOFFSETFROM:+0200
TZOFFSETTO:+0100
TZNAME:CET
DTSTART:20271031T010000
END:STANDARD
END:VTIMEZONE
BEGIN:VEVENT
DTSTART;TZID=Europe/Berlin:20260307T072500
DTEND;TZID=Europe/Berlin:20260307T193000
DTSTAMP:20260421T135456
CREATED:20251210T212643Z
LAST-MODIFIED:20251210T212643Z
UID:2756-1772868300-1772911800@www.reutlinger-geschichtsverein.de
SUMMARY:Kunst und Architektur in Frankfurt
DESCRIPTION:Eine der weniger bekannten Seiten des Künstlers Max Beckmann (1884–1950) steht im Mittelpunkt dieser Schau im Frankfurter Städel: seine Zeichnungen. 80 teils erstmals öffentlich zu sehende Werke zeigen seine Entwicklung von ersten frühen Skizzen bis hin zu späten bildhaften Meisterwerken. Große Intensität und unbändige Kreativität eint alle Arbeiten.\nAnschließend steht ein Besuch eines Musterhauses in der Römerstadt auf dem Programm. Architekt ist der Beckmann-Zeitgenosse Ernst May (1886–1970)\, dessen erhaltenes Reihenhaus von 1927/28 exemplarisch für das fortschrittliche Bauen dieser Zeit steht. \nSamstag\, 7. März 2026\nAbfahrt 7:25 Uhr Alter Omnibusbahnhof (Rückkehr 19:30 Uhr)\nLeitung: Barbara Krämer M. A.\nPreis: 118\,00 Euro\nAnmeldeschluss bei der vhs Reutlingen: 6.2.2026
URL:https://www.reutlinger-geschichtsverein.de/veranstaltung/kunst-und-architektur-in-frankfurt/
LOCATION:Baden-Württemberg
CATEGORIES:Führungen und Reisen
END:VEVENT
END:VCALENDAR