BEGIN:VCALENDAR
VERSION:2.0
PRODID:-//Reutlinger Geschichtsverein - ECPv6.15.17.1//NONSGML v1.0//EN
CALSCALE:GREGORIAN
METHOD:PUBLISH
X-ORIGINAL-URL:https://www.reutlinger-geschichtsverein.de
X-WR-CALDESC:Veranstaltungen für Reutlinger Geschichtsverein
REFRESH-INTERVAL;VALUE=DURATION:PT1H
X-Robots-Tag:noindex
X-PUBLISHED-TTL:PT1H
BEGIN:VTIMEZONE
TZID:Europe/Berlin
BEGIN:DAYLIGHT
TZOFFSETFROM:+0100
TZOFFSETTO:+0200
TZNAME:CEST
DTSTART:20250330T010000
END:DAYLIGHT
BEGIN:STANDARD
TZOFFSETFROM:+0200
TZOFFSETTO:+0100
TZNAME:CET
DTSTART:20251026T010000
END:STANDARD
BEGIN:DAYLIGHT
TZOFFSETFROM:+0100
TZOFFSETTO:+0200
TZNAME:CEST
DTSTART:20260329T010000
END:DAYLIGHT
BEGIN:STANDARD
TZOFFSETFROM:+0200
TZOFFSETTO:+0100
TZNAME:CET
DTSTART:20261025T010000
END:STANDARD
BEGIN:DAYLIGHT
TZOFFSETFROM:+0100
TZOFFSETTO:+0200
TZNAME:CEST
DTSTART:20270328T010000
END:DAYLIGHT
BEGIN:STANDARD
TZOFFSETFROM:+0200
TZOFFSETTO:+0100
TZNAME:CET
DTSTART:20271031T010000
END:STANDARD
END:VTIMEZONE
BEGIN:VEVENT
DTSTART;TZID=Europe/Berlin:20260321T131500
DTEND;TZID=Europe/Berlin:20260321T173000
DTSTAMP:20260421T135522
CREATED:20251210T212853Z
LAST-MODIFIED:20251210T212853Z
UID:2758-1774098900-1774114200@www.reutlinger-geschichtsverein.de
SUMMARY:Am Puls der Pausa
DESCRIPTION:Die Pausa war mehr als eine Fabrik – sie war ein Ort der Kreativität\, des politischen Engagements und der Modernität. Das denkmalgeschützte Werksgelände in Mössingen erzählt von einer einzigartigen Verbindung aus Textilkunst\, Architektur und Geschichte. Bei dieser Führung erleben Sie die beeindruckende vom Bauhaus inspirierte Architektur von Manfred Lehmbruck und erhalten Einblicke in die bewegte Geschichte des Unternehmens. Anschließend besuchen Sie die Ausstellung „Am Puls der Pausa“\, die anhand von Originalstoffen\, Fotos und Dokumenten zeigt\, wie Design\, Wirtschaft und Gesellschaft hier miteinander verflochten waren – von den Anfängen bis in die Gegenwart. \nAbfahrt 13:15 Uhr an der vhs Reutlingen (Rückkehr ca. 17:30 Uhr). Bei eigener Anfahrt Treffpunkt 14:00 Uhr Löwensteinplatz 1\, vor dem Café Pausa Mössingen\nLeitung: Irene Karki\, Susanne Fauser\nPreis: 27\,00 Euro (bei eigener Anfahrt 19\,00 Euro)\nAnmeldeschluss bei der vhs Reutlingen: 16.3.2026
URL:https://www.reutlinger-geschichtsverein.de/veranstaltung/am-puls-der-pausa/
LOCATION:Volkshochschule Reutlingen\, Spendhausstr. 6\, Reutlingen\, Baden-Württemberg\, 72764\, Germany
END:VEVENT
END:VCALENDAR