BEGIN:VCALENDAR
VERSION:2.0
PRODID:-//Reutlinger Geschichtsverein - ECPv6.15.17.1//NONSGML v1.0//EN
CALSCALE:GREGORIAN
METHOD:PUBLISH
X-ORIGINAL-URL:https://www.reutlinger-geschichtsverein.de
X-WR-CALDESC:Veranstaltungen für Reutlinger Geschichtsverein
REFRESH-INTERVAL;VALUE=DURATION:PT1H
X-Robots-Tag:noindex
X-PUBLISHED-TTL:PT1H
BEGIN:VTIMEZONE
TZID:Europe/Berlin
BEGIN:DAYLIGHT
TZOFFSETFROM:+0100
TZOFFSETTO:+0200
TZNAME:CEST
DTSTART:20250330T010000
END:DAYLIGHT
BEGIN:STANDARD
TZOFFSETFROM:+0200
TZOFFSETTO:+0100
TZNAME:CET
DTSTART:20251026T010000
END:STANDARD
BEGIN:DAYLIGHT
TZOFFSETFROM:+0100
TZOFFSETTO:+0200
TZNAME:CEST
DTSTART:20260329T010000
END:DAYLIGHT
BEGIN:STANDARD
TZOFFSETFROM:+0200
TZOFFSETTO:+0100
TZNAME:CET
DTSTART:20261025T010000
END:STANDARD
BEGIN:DAYLIGHT
TZOFFSETFROM:+0100
TZOFFSETTO:+0200
TZNAME:CEST
DTSTART:20270328T010000
END:DAYLIGHT
BEGIN:STANDARD
TZOFFSETFROM:+0200
TZOFFSETTO:+0100
TZNAME:CET
DTSTART:20271031T010000
END:STANDARD
END:VTIMEZONE
BEGIN:VEVENT
DTSTART;TZID=Europe/Berlin:20260614T072500
DTEND;TZID=Europe/Berlin:20260614T200000
DTSTAMP:20260421T145535
CREATED:20251210T212422Z
LAST-MODIFIED:20251210T212422Z
UID:2754-1781421900-1781467200@www.reutlinger-geschichtsverein.de
SUMMARY:Worms
DESCRIPTION:Worms am linken Rheinufer war eine römische Gründung und ist damit eine der ältesten Städte Deutschlands. Sie wird gerne auch Lutherstadt genannt\, weil sich hier 1521 der Reformator vor Reichstag und Kaiser standhaft rechtfertigte. Heute gehört Worms zusammen mit Speyer und Mainz zum UNESCO-Welterbe „SchUM am Rhein“. Die Stadt besaß bis in die frühe Neuzeit eine der bedeutendsten jüdischen Gemeinden\, der erhaltene jüdische Friedhof „Heiliger Sand“ ist der älteste Judenfriedhof in Europa. Die Studienfahrt führt uns in den romanischen Dom des 12. Jh.\, zum Lutherdenkmal sowie in den jüdischen Friedhof\, die Synagoge und die Welterbe-Ausstellung. \nAbfahrt: 7:25 Uhr Alter Busbahnhof (Rückkehr: ca. 20:00 Uhr)\nLeitung: Eberhard Zacher\nPreis: 89\,00 Euro\nAnmeldeschluss bei der vhs Reutlingen: 13.5.2026
URL:https://www.reutlinger-geschichtsverein.de/veranstaltung/worms/
LOCATION:Baden-Württemberg
CATEGORIES:Führungen und Reisen
END:VEVENT
END:VCALENDAR