BEGIN:VCALENDAR
VERSION:2.0
PRODID:-//Reutlinger Geschichtsverein - ECPv6.15.17.1//NONSGML v1.0//EN
CALSCALE:GREGORIAN
METHOD:PUBLISH
X-WR-CALNAME:Reutlinger Geschichtsverein
X-ORIGINAL-URL:https://www.reutlinger-geschichtsverein.de
X-WR-CALDESC:Veranstaltungen für Reutlinger Geschichtsverein
REFRESH-INTERVAL;VALUE=DURATION:PT1H
X-Robots-Tag:noindex
X-PUBLISHED-TTL:PT1H
BEGIN:VTIMEZONE
TZID:Europe/Berlin
BEGIN:DAYLIGHT
TZOFFSETFROM:+0100
TZOFFSETTO:+0200
TZNAME:CEST
DTSTART:20240331T010000
END:DAYLIGHT
BEGIN:STANDARD
TZOFFSETFROM:+0200
TZOFFSETTO:+0100
TZNAME:CET
DTSTART:20241027T010000
END:STANDARD
BEGIN:DAYLIGHT
TZOFFSETFROM:+0100
TZOFFSETTO:+0200
TZNAME:CEST
DTSTART:20250330T010000
END:DAYLIGHT
BEGIN:STANDARD
TZOFFSETFROM:+0200
TZOFFSETTO:+0100
TZNAME:CET
DTSTART:20251026T010000
END:STANDARD
BEGIN:DAYLIGHT
TZOFFSETFROM:+0100
TZOFFSETTO:+0200
TZNAME:CEST
DTSTART:20260329T010000
END:DAYLIGHT
BEGIN:STANDARD
TZOFFSETFROM:+0200
TZOFFSETTO:+0100
TZNAME:CET
DTSTART:20261025T010000
END:STANDARD
END:VTIMEZONE
BEGIN:VEVENT
DTSTART;TZID=Europe/Berlin:20251002T190000
DTEND;TZID=Europe/Berlin:20251002T203000
DTSTAMP:20260423T124001
CREATED:20250925T094904Z
LAST-MODIFIED:20250925T094904Z
UID:2731-1759431600-1759437000@www.reutlinger-geschichtsverein.de
SUMMARY:Mitgliederversammlung des Reutlinger Geschichtsvereins
DESCRIPTION:Am Donnerstag\, den 2. Oktober\, um 19:00 Uhr hält der Reutlinger Geschichtsverein im Haus der Jugend\, Museumsstraße 7\, seine jährliche Mitgliederversammlung ab. Nach den regulären Berichten über die Vereinsaktivitäten\, die Kasse und die Kassenprüfung steht in diesem Jahr ein besonderes Thema auf dem Programm: der Bericht über das Nutzungskonzept des historischen Gebäudeensembles in der Oberamteistraße. Der Leiter der historischen Museen\, Christian Rilling\, wird erläutern\, was die Besucher in den künftigen Museumsgebäuden an Inhalten und Veranstaltungen erwarten dürfen.
URL:https://www.reutlinger-geschichtsverein.de/veranstaltung/mitgliederversammlung-des-reutlinger-geschichtsvereins/
LOCATION:Haus der Jugend\, Museumsstr. 7\, 72764 Reutlingen\, Baden-Württemberg\, 72764
ATTACH;FMTTYPE=image/webp:https://www.reutlinger-geschichtsverein.de/wp-content/uploads/2024/09/DSC01179-e1726593368992.webp
END:VEVENT
BEGIN:VEVENT
DTSTART;TZID=Europe/Berlin:20251011T080000
DTEND;TZID=Europe/Berlin:20251011T190000
DTSTAMP:20260423T124001
CREATED:20250607T153706Z
LAST-MODIFIED:20250607T153706Z
UID:2635-1760169600-1760209200@www.reutlinger-geschichtsverein.de
SUMMARY:Über der Donauschleife
DESCRIPTION:Leitung: Gisela Cichy-Dörfeldt\nAbfahrt: 8:00 Uhr Alter Busbahnhof (Rückkehr ca. 19:00 Uhr)\nPreis: 74\,00 Euro\nAnmeldeschluss bei der vhs Reutlingen: 12.9.2025 \nMit dem Besuch der hoch über der Donau liegenden evangelsichen Kirche St. Wolfgang in Rottenacker\, erbaut 1485\, führt uns ein schöner Weg an der Donau an das eindrückliche Wasserkraftwerk. Danach bringt uns der Bus auf die Höhe zu einem Wasserhochbehälter mit herrlicher Aussicht. Nach dem Mittagessen in Munderkingen besuchen wir den sehenswerten Markplatz mit Rathaus. Wir fahren nun nach Schloss Mochental mit einer Führung im Besenmuseum und der Kunstgalerie. Zum Abschluss gibt es die Möglichkeit einer Kaffeeeinkehr. Kleine Änderungen je nach Wetterlage sind vorbehalten. Bitte denken Sie an gutes Schuhwerk und Regenschutz! \nBild: Innenansicht St. Wolfgangskirche\, Rottenacker PiotrMig@wikimedia commons\, CC BY-SA 4.0
URL:https://www.reutlinger-geschichtsverein.de/veranstaltung/ueber-der-donauschleife/
LOCATION:Reutlingen\, alter Busbahnhof\, Busbahnhof Kaiserstr.\, Reutlingen\, Baden-Württemberg\, 72764\, Deutschland
CATEGORIES:Führungen und Reisen
ATTACH;FMTTYPE=image/jpeg:https://www.reutlinger-geschichtsverein.de/wp-content/uploads/2025/06/Interior_of_St._Wolfgangskirche_Rottenacker_v1-scaled.jpg
END:VEVENT
BEGIN:VEVENT
DTSTART;TZID=Europe/Berlin:20251011T125000
DTEND;TZID=Europe/Berlin:20251011T173000
DTSTAMP:20260423T124001
CREATED:20250607T154501Z
LAST-MODIFIED:20250607T154501Z
UID:2630-1760187000-1760203800@www.reutlinger-geschichtsverein.de
SUMMARY:Den Kelten auf der Spur
DESCRIPTION:Leitung: Dr. Frieder Klein\nAbfahrt: 12.50 Uhr an der Volkshochschule (Rückkehr ca. 17:30 Uhr)\, für Selbstfahrer 13:30 Uhr am Parkplatz Grabenstetten\, Friedhof/Hofener Weg\nPreis: 25\,00 Euro mit vhs-Kleintransporter\, für Selbstfahrer 20\,00 Euro\nAnmeldeschluss bei der vhs Reutlingen: 30.9.2025 \nZwischen etwa 120 und 90 vor Christus herrscht auf der Vorderen Alb am „Heidengraben“ reges Leben. Wall und Graben\, sowie Befestigung künden vom größten Oppidum in Mitteleuropa\, in dem sich Wirtschaft\, Handwerk und Handel\, aber auch politisches und gesellschaftliches Leben entfalten. Das 2024 mit modernster Museumstechnik eröffnete Heidengrabenzentrum zeigt das keltische Leben auf der Vorderen Alb – ein Experiment mit Rekonstruktionen\, Medien und digitalen Informationen. Für den ca. zwei km langen Fußweg ist angemessenes Schuhwerk erforderlich. Die Leitung übernimmt unser Ausschussmitglied Dr. Frieder Klein\, der Erforschung und Konzeption des Heidengrabenzentrums eng begleitete. \nBild: Heidengraben\, Dietrich Krieger\, CC BY-SA 3.0
URL:https://www.reutlinger-geschichtsverein.de/veranstaltung/den-kelten-auf-der-spur/
LOCATION:Volkshochschule Reutlingen\, Spendhausstr. 6\, Reutlingen\, Baden-Württemberg\, 72764\, Germany
CATEGORIES:Führungen und Reisen
ATTACH;FMTTYPE=image/jpeg:https://www.reutlinger-geschichtsverein.de/wp-content/uploads/2025/06/Heidengraben-6687_v1-scaled.jpg
END:VEVENT
END:VCALENDAR